BEGIN:VCALENDAR
VERSION:2.0
PRODID:-//Tukios.com/
BEGIN:VEVENT
UID:834e5540-94e6-4521-b264-1d497f638bf7@www.kruegerfuneralhome.com
DTSTAMP:20260421T011203Z
DTSTART:20260424T150000Z
DTEND:20260424T170000Z
SUMMARY:Visitation
DESCRIPTION:
URL:https://www.kruegerfuneralhome.com/obituaries/jennifer-hall
LOCATION: 2619 Brewerton Road  Mattydale NY 13211
GEO:43.103896;-76.1467706
END:VEVENT
END:VCALENDAR