BEGIN:VCALENDAR
VERSION:2.0
PRODID:-//Tukios.com/
BEGIN:VEVENT
UID:526463e6-d85f-476d-9fd9-b98bc3f8cfec@www.kruegerfuneralhome.com
DTSTAMP:20260421T011304Z
DTSTART:20260424T170000Z
DTEND:20260424T173000Z
SUMMARY:Funeral Service
DESCRIPTION:
URL:https://www.kruegerfuneralhome.com/obituaries/jennifer-hall
LOCATION: 2619 Brewerton Road  Mattydale NY 13211
GEO:43.103896;-76.1467706
END:VEVENT
END:VCALENDAR