BEGIN:VCALENDAR
VERSION:2.0
PRODID:-//Tukios.com/
BEGIN:VEVENT
UID:9c69d927-a498-4e3b-b341-93076f9cde54@www.kruegerfuneralhome.com
DTSTAMP:20260421T010846Z
DTSTART:20260424T174500Z
DTEND:20260424T181500Z
SUMMARY:Burial
DESCRIPTION:
URL:https://www.kruegerfuneralhome.com/obituaries/jennifer-hall
LOCATION: 555 S Bay Rd  North Syracuse NY 13212
GEO:43.1308478;-76.1293453
END:VEVENT
END:VCALENDAR