BEGIN:VCALENDAR
VERSION:2.0
PRODID:-//Tukios.com/
BEGIN:VEVENT
UID:093d31ef-6e75-4e41-be8b-8f459baf418e@www.kruegerfuneralhome.com
DTSTAMP:20260419T224112Z
DTSTART:20260423T200000Z
DTEND:20260423T220000Z
SUMMARY:Visitation
DESCRIPTION:
URL:https://www.kruegerfuneralhome.com/obituaries/patricia-lamontagne
LOCATION: 2619 Brewerton Road  Mattydale NY 13211
GEO:43.103896;-76.1467706
END:VEVENT
END:VCALENDAR