BEGIN:VCALENDAR
VERSION:2.0
PRODID:-//Tukios.com/
BEGIN:VEVENT
UID:7542cae1-8355-4960-a043-3a35c016eb01@www.kruegerfuneralhome.com
DTSTAMP:20260419T223626Z
DTSTART:20260423T220000Z
DTEND:20260423T223000Z
SUMMARY:Funeral Service
DESCRIPTION:
URL:https://www.kruegerfuneralhome.com/obituaries/patricia-lamontagne
LOCATION: 2619 Brewerton Road  Mattydale NY 13211
GEO:43.103896;-76.1467706
END:VEVENT
END:VCALENDAR